BEGIN:VCALENDAR
VERSION:2.0
PRODID:-//Squarespace Inc/Squarespace 6//v6//EN
BEGIN:VEVENT
UID:5271db2ce4b0edf55c9490cc@squarespace.com
DTSTAMP:20131209T043621Z
DTSTART:20140125T213000Z
DTEND:20140126T083000Z
SUMMARY:Australia Day Craig's Hut & the High Country Ride
END:VEVENT
END:VCALENDAR
