BEGIN:VCALENDAR
VERSION:2.0
PRODID:-//Squarespace Inc/Squarespace 6//v6//EN
BEGIN:VEVENT
UID:5271daf5e4b0f6c938687324@squarespace.com
DTSTAMP:20131031T042255Z
DTSTART:20140115T213000Z
DTEND:20140122T083000Z
SUMMARY:7 Day feature High Country Ride
END:VEVENT
END:VCALENDAR
