BEGIN:VCALENDAR
VERSION:2.0
PRODID:-//Squarespace Inc/Squarespace 6//v6//EN
BEGIN:VEVENT
UID:5271daabe4b0adc8d4c4c423@squarespace.com
DTSTAMP:20131031T042156Z
DTSTART:20131230T213000Z
DTEND:20140101T083000Z
SUMMARY:2 Day New Years fun in the bush!
END:VEVENT
END:VCALENDAR
