BEGIN:VCALENDAR
VERSION:2.0
PRODID:-//Squarespace Inc/Squarespace 6//v6//EN
BEGIN:VEVENT
UID:5271d9bfe4b0f3771e00d28b@squarespace.com
DTSTAMP:20131031T042034Z
DTSTART:20131212T213000Z
DTEND:20131215T083000Z
SUMMARY:3 Day Pack Horse Fly-Fishing Trip
END:VEVENT
END:VCALENDAR
