BEGIN:VCALENDAR
VERSION:2.0
PRODID:-//Squarespace Inc/Squarespace 6//v6//EN
BEGIN:VEVENT
UID:52538c07e4b055e5383950c5@squarespace.com
DTSTAMP:20131031T041548Z
DTSTART:20131109T130000Z
DTEND:20131111T210000Z
SUMMARY:2 Day Howqua River Ride - FULLY BOOKED
END:VEVENT
END:VCALENDAR
