BEGIN:VCALENDAR
VERSION:2.0
PRODID:-//Squarespace Inc/Squarespace 6//v6//EN
BEGIN:VEVENT
UID:5271d988e4b02a66778d8836@squarespace.com
DTSTAMP:20131031T041646Z
DTSTART:20131129T213000Z
DTEND:20131201T083000Z
SUMMARY:2 Day Craig's Hut & High Country Ride
END:VEVENT
END:VCALENDAR
