BEGIN:VCALENDAR
VERSION:2.0
PRODID:-//Squarespace Inc/Squarespace 6//v6//EN
BEGIN:VEVENT
UID:52538733e4b0dd64d4adf85b@squarespace.com
DTSTAMP:20131031T041228Z
DTSTART:20131001T053000Z
DTEND:20131031T040000Z
SUMMARY:October Daily Rides
END:VEVENT
END:VCALENDAR
