BEGIN:VCALENDAR
VERSION:2.0
PRODID:-//Squarespace Inc/Squarespace 6//v6//EN
BEGIN:VEVENT
UID:5271d8f0e4b0b9200a6f508a@squarespace.com
DTSTAMP:20131031T041511Z
DTSTART:20131115T213000Z
DTEND:20131121T083000Z
SUMMARY:6 Day Heritage Cattle Drive
END:VEVENT
END:VCALENDAR
